BEGIN:VCALENDAR
VERSION:2.0
PRODID:-//Internationaler Bodensee-Feuerwehrbund - ECPv6.15.20//NONSGML v1.0//EN
CALSCALE:GREGORIAN
METHOD:PUBLISH
X-ORIGINAL-URL:http://www.bodensee-feuerwehrbund.com
X-WR-CALDESC:Veranstaltungen für Internationaler Bodensee-Feuerwehrbund
REFRESH-INTERVAL;VALUE=DURATION:PT1H
X-Robots-Tag:noindex
X-PUBLISHED-TTL:PT1H
BEGIN:VTIMEZONE
TZID:Europe/Berlin
BEGIN:DAYLIGHT
TZOFFSETFROM:+0100
TZOFFSETTO:+0200
TZNAME:CEST
DTSTART:20250330T010000
END:DAYLIGHT
BEGIN:STANDARD
TZOFFSETFROM:+0200
TZOFFSETTO:+0100
TZNAME:CET
DTSTART:20251026T010000
END:STANDARD
BEGIN:DAYLIGHT
TZOFFSETFROM:+0100
TZOFFSETTO:+0200
TZNAME:CEST
DTSTART:20260329T010000
END:DAYLIGHT
BEGIN:STANDARD
TZOFFSETFROM:+0200
TZOFFSETTO:+0100
TZNAME:CET
DTSTART:20261025T010000
END:STANDARD
BEGIN:DAYLIGHT
TZOFFSETFROM:+0100
TZOFFSETTO:+0200
TZNAME:CEST
DTSTART:20270328T010000
END:DAYLIGHT
BEGIN:STANDARD
TZOFFSETFROM:+0200
TZOFFSETTO:+0100
TZNAME:CET
DTSTART:20271031T010000
END:STANDARD
END:VTIMEZONE
BEGIN:VEVENT
DTSTART;TZID=Europe/Berlin:20260704T080000
DTEND;TZID=Europe/Berlin:20260704T170000
DTSTAMP:20260424T194500
CREATED:20260407T081327Z
LAST-MODIFIED:20260407T081328Z
UID:5202-1783152000-1783184400@www.bodensee-feuerwehrbund.com
SUMMARY:73. Vorarlberger Landes-Feuerwehr-Leistungsbewerb und 45. Feuerwehrjugend-Leistungsbewerb
DESCRIPTION:Der Vorarlberger Landes-Feuerwehr-Leistungsbewerb mit dem Feuerwehrjugend-Leistungsbewerb findet am Samstag\, den 4. Juli 2026 in Bezau\, Bezirk Bregenz\, statt. \n\n\n\nBei diesem Bewerb kann das Vorarlberger Feuerwehr-Leistungsabzeichen in Bronze oder Silber erworben werden. Gleichzeitig wird auch der Bewerb um das Bundes-Feuerwehr-Leistungsabzeichen in Bronze und Silber angeboten. Der Bewerb um das Feuerwehrjugend-Leistungsabzeichen in Bronze und Silber findet ebenfalls zum genannten Termin statt. \n\n\n\nDie Anmeldung ist ab 7. April über syBOS möglich. Gästegruppen müssen sich zuvor über das Online-Formular Gästegruppen-Voranmeldung anmelden. \n\n\n\nAnmeldungen sind bis 24. Mai 2026 möglich! Teilnehmer können dann noch bis 28. Juni 2026 über das syBOS-Portal geändert oder ausgetauscht werden. Weitere Informationen zum Landes-Feuerwehr-Leistungsbewerb werden fortlaufend hier veröffentlicht. \n\n\n\nWeitere Infos hier…
URL:http://www.bodensee-feuerwehrbund.com/event/73-vorarlberger-landes-feuerwehr-leistungsbewerb-und-45-feuerwehrjugend-leistungsbewerb/
END:VEVENT
BEGIN:VEVENT
DTSTART;TZID=Europe/Berlin:20260704T100000
DTEND;TZID=Europe/Berlin:20260704T170000
DTSTAMP:20260424T194500
CREATED:20260407T073112Z
LAST-MODIFIED:20260423T071318Z
UID:5193-1783159200-1783184400@www.bodensee-feuerwehrbund.com
SUMMARY:Tag der OFFENEN Tore -Feuerwehr Friedrichshafen-
DESCRIPTION:SAVE – THE – DATE bei der Feuerwehr FriedrichshafenProgramm:– Abnahme Leistungsabzeichen– Fahrzeugausstellung– Hausführung– Feierabendhock– Kinderprogramm– Bewirtung
URL:http://www.bodensee-feuerwehrbund.com/event/tag-der-offenen-tuere-feuerwehr-friedrichshafen/
LOCATION:Feuerwehr Friedrichshafen\, Meistershofener Str. 40\, 88045 Friedrichshafen\, Germany
END:VEVENT
BEGIN:VEVENT
DTSTART;TZID=Europe/Berlin:20260705T100000
DTEND;TZID=Europe/Berlin:20260705T170000
DTSTAMP:20260424T194500
CREATED:20260407T073451Z
LAST-MODIFIED:20260423T071220Z
UID:5195-1783245600-1783270800@www.bodensee-feuerwehrbund.com
SUMMARY:Tag der OFFENEN Tore -Feuerwehr Friedrichshafen-
DESCRIPTION:SAVE – THE – DATE bei der Feuerwehr FriedrichshafenProgramm:– Fahrzeugausstellung– Hausführung– Kinderprogramm– Bewirtung– Einsatzübungen– Kaffee & Kuchen
URL:http://www.bodensee-feuerwehrbund.com/event/tag-der-offenen-tuere-feuerwehr-friedrichshafen-2/
LOCATION:Feuerwehr Friedrichshafen\, Meistershofener Str. 40\, 88045 Friedrichshafen\, Germany
END:VEVENT
BEGIN:VEVENT
DTSTART;TZID=Europe/Berlin:20260709T193000
DTEND;TZID=Europe/Berlin:20260709T220000
DTSTAMP:20260424T194500
CREATED:20251215T115938Z
LAST-MODIFIED:20251215T121152Z
UID:5062-1783625400-1783634400@www.bodensee-feuerwehrbund.com
SUMMARY:BFB Vorstandssitzung (Vorstand)
DESCRIPTION:BFB Vorstandssitzung (Vorstand) findet bei der Freiwilligen Feuerwehr XXX\, statt. Ort wird noch bekannt gegeben.
URL:http://www.bodensee-feuerwehrbund.com/event/vorstandssitzung-bfb-vorstand-2/
END:VEVENT
BEGIN:VEVENT
DTSTART;TZID=Europe/Berlin:20260725T080000
DTEND;TZID=Europe/Berlin:20260725T170000
DTSTAMP:20260424T194500
CREATED:20251026T092413Z
LAST-MODIFIED:20251028T074305Z
UID:4881-1784966400-1784998800@www.bodensee-feuerwehrbund.com
SUMMARY:BFB Flottensternfahrt
DESCRIPTION:BFB Flottensternfahrt 2026: \n\n\n\nZusammenkunft der Löschboote von Deutschland – Österreich – Schweiz und Liechtenstein vor Fischbach Deutschland. \n\n\n\nDer Treffpunkt ist wie gewohnt das Planquadrat 2878. Das Feuerlöschboot Friedrichshafen wird ab 10:30 Uhr den Treffpunkt markieren. Es ist für Funkgespräche\, welche die Flottensternfahrt betreffen über die Rufgruppe CBC BODSEE 4 unter dem Rufnahmen Florian Friedrichshafen 1/78 zu erreichen. \n\n\n\nDie Veranstaltung findet bei jedem Wetter statt. Jedoch werden wir bei schlechtem Wetter und hohem Seegang in ein nahegelegenes Feuerwehrhaus ausweichen. Wir würden in diesem Fall die Verantwortlichen der angemeldeten Feuerwehren und Organisationen informieren.
URL:http://www.bodensee-feuerwehrbund.com/event/bfb-flottensternfahrt-2/
END:VEVENT
END:VCALENDAR