BEGIN:VCALENDAR
VERSION:2.0
PRODID:-//Internationaler Bodensee-Feuerwehrbund - ECPv6.15.20//NONSGML v1.0//EN
CALSCALE:GREGORIAN
METHOD:PUBLISH
X-ORIGINAL-URL:http://www.bodensee-feuerwehrbund.com
X-WR-CALDESC:Veranstaltungen für Internationaler Bodensee-Feuerwehrbund
REFRESH-INTERVAL;VALUE=DURATION:PT1H
X-Robots-Tag:noindex
X-PUBLISHED-TTL:PT1H
BEGIN:VTIMEZONE
TZID:Europe/Berlin
BEGIN:DAYLIGHT
TZOFFSETFROM:+0100
TZOFFSETTO:+0200
TZNAME:CEST
DTSTART:20240331T010000
END:DAYLIGHT
BEGIN:STANDARD
TZOFFSETFROM:+0200
TZOFFSETTO:+0100
TZNAME:CET
DTSTART:20241027T010000
END:STANDARD
BEGIN:DAYLIGHT
TZOFFSETFROM:+0100
TZOFFSETTO:+0200
TZNAME:CEST
DTSTART:20250330T010000
END:DAYLIGHT
BEGIN:STANDARD
TZOFFSETFROM:+0200
TZOFFSETTO:+0100
TZNAME:CET
DTSTART:20251026T010000
END:STANDARD
BEGIN:DAYLIGHT
TZOFFSETFROM:+0100
TZOFFSETTO:+0200
TZNAME:CEST
DTSTART:20260329T010000
END:DAYLIGHT
BEGIN:STANDARD
TZOFFSETFROM:+0200
TZOFFSETTO:+0100
TZNAME:CET
DTSTART:20261025T010000
END:STANDARD
END:VTIMEZONE
BEGIN:VEVENT
DTSTART;TZID=Europe/Berlin:20251025T140000
DTEND;TZID=Europe/Berlin:20251025T170000
DTSTAMP:20260425T035029
CREATED:20250328T173023Z
LAST-MODIFIED:20251006T161907Z
UID:4506-1761400800-1761411600@www.bodensee-feuerwehrbund.com
SUMMARY:Abgeordnetenversammlung 2025 in Konstanz-Dingelsdorf (Mitgliedsfeuerwehren)
DESCRIPTION:Ab 13:00 Uhr findet zwischen der Halle und Feuerwehrhaus eine Fahrzeugausstellung mit Lösch- und Führungsfahrzeugen aus dem Kreis Konstanz statt.Für den Fachvortrag\, der traditionell im Rahmen der Abgeordnetenversammlung stattfindet\, konnten wir Kamerad Roland Farrér\, den Präsidenten des Schweizerischen Feuerwehrverbandes\, gewinnen. Er wird zum Thema Bergsturz in Brienz in Graubünden (CH) im Jahr 2023 und den ständigen geologischen Herausforderungen in der Region Brienz\, sprechen.Im Anschluss an die Versammlung findet ein Apéro vor dem neuen Feuerwehrhaus der Feuerwehr Konstanz\, Abteilung Dingelsdorf als gemütlicher Ausklang mit der Möglichkeit des kameradschaftlichen Austauschs und Beisammensein statt. In diesem Rahmen besteht die Möglichkeit das Haus zu besichtigen\, es ist eine besondere Ehre für den BFB\, da das Haus erst im November offiziell an die Feuerwehr Konstanz Abt. Dingelsdorf übergeben wird. \n\n\n\nAlles weitere in der Einladung und Tagesordnung des BFB. \n\n\n\n25.10.2025 Einladung AV in Konstanz-DingelsdorfHerunterladen\n\n\n\n25.10.2025 Tagesordung AV in Konstanz-DingesldorfHerunterladen
URL:http://www.bodensee-feuerwehrbund.com/event/abgeordnetenversammlung-2025-in-konstanz-dingelsdorf-mitgliedsfeuerwehren/
END:VEVENT
END:VCALENDAR