BEGIN:VCALENDAR
VERSION:2.0
PRODID:-//Internationaler Bodensee-Feuerwehrbund - ECPv6.15.20//NONSGML v1.0//EN
CALSCALE:GREGORIAN
METHOD:PUBLISH
X-WR-CALNAME:Internationaler Bodensee-Feuerwehrbund
X-ORIGINAL-URL:http://www.bodensee-feuerwehrbund.com
X-WR-CALDESC:Veranstaltungen für Internationaler Bodensee-Feuerwehrbund
REFRESH-INTERVAL;VALUE=DURATION:PT1H
X-Robots-Tag:noindex
X-PUBLISHED-TTL:PT1H
BEGIN:VTIMEZONE
TZID:Europe/Berlin
BEGIN:DAYLIGHT
TZOFFSETFROM:+0100
TZOFFSETTO:+0200
TZNAME:CEST
DTSTART:20250330T010000
END:DAYLIGHT
BEGIN:STANDARD
TZOFFSETFROM:+0200
TZOFFSETTO:+0100
TZNAME:CET
DTSTART:20251026T010000
END:STANDARD
BEGIN:DAYLIGHT
TZOFFSETFROM:+0100
TZOFFSETTO:+0200
TZNAME:CEST
DTSTART:20260329T010000
END:DAYLIGHT
BEGIN:STANDARD
TZOFFSETFROM:+0200
TZOFFSETTO:+0100
TZNAME:CET
DTSTART:20261025T010000
END:STANDARD
BEGIN:DAYLIGHT
TZOFFSETFROM:+0100
TZOFFSETTO:+0200
TZNAME:CEST
DTSTART:20270328T010000
END:DAYLIGHT
BEGIN:STANDARD
TZOFFSETFROM:+0200
TZOFFSETTO:+0100
TZNAME:CET
DTSTART:20271031T010000
END:STANDARD
END:VTIMEZONE
BEGIN:VEVENT
DTSTART;TZID=Europe/Berlin:20260705T100000
DTEND;TZID=Europe/Berlin:20260705T170000
DTSTAMP:20260424T194301
CREATED:20260407T073451Z
LAST-MODIFIED:20260423T071220Z
UID:5195-1783245600-1783270800@www.bodensee-feuerwehrbund.com
SUMMARY:Tag der OFFENEN Tore -Feuerwehr Friedrichshafen-
DESCRIPTION:SAVE – THE – DATE bei der Feuerwehr FriedrichshafenProgramm:– Fahrzeugausstellung– Hausführung– Kinderprogramm– Bewirtung– Einsatzübungen– Kaffee & Kuchen
URL:http://www.bodensee-feuerwehrbund.com/event/tag-der-offenen-tuere-feuerwehr-friedrichshafen-2/
LOCATION:Feuerwehr Friedrichshafen\, Meistershofener Str. 40\, 88045 Friedrichshafen\, Germany
END:VEVENT
END:VCALENDAR