BEGIN:VCALENDAR
VERSION:2.0
PRODID:-//Internationaler Bodensee-Feuerwehrbund - ECPv6.15.20//NONSGML v1.0//EN
CALSCALE:GREGORIAN
METHOD:PUBLISH
X-WR-CALNAME:Internationaler Bodensee-Feuerwehrbund
X-ORIGINAL-URL:http://www.bodensee-feuerwehrbund.com
X-WR-CALDESC:Veranstaltungen für Internationaler Bodensee-Feuerwehrbund
REFRESH-INTERVAL;VALUE=DURATION:PT1H
X-Robots-Tag:noindex
X-PUBLISHED-TTL:PT1H
BEGIN:VTIMEZONE
TZID:Europe/Berlin
BEGIN:DAYLIGHT
TZOFFSETFROM:+0100
TZOFFSETTO:+0200
TZNAME:CEST
DTSTART:20250330T010000
END:DAYLIGHT
BEGIN:STANDARD
TZOFFSETFROM:+0200
TZOFFSETTO:+0100
TZNAME:CET
DTSTART:20251026T010000
END:STANDARD
BEGIN:DAYLIGHT
TZOFFSETFROM:+0100
TZOFFSETTO:+0200
TZNAME:CEST
DTSTART:20260329T010000
END:DAYLIGHT
BEGIN:STANDARD
TZOFFSETFROM:+0200
TZOFFSETTO:+0100
TZNAME:CET
DTSTART:20261025T010000
END:STANDARD
BEGIN:DAYLIGHT
TZOFFSETFROM:+0100
TZOFFSETTO:+0200
TZNAME:CEST
DTSTART:20270328T010000
END:DAYLIGHT
BEGIN:STANDARD
TZOFFSETFROM:+0200
TZOFFSETTO:+0100
TZNAME:CET
DTSTART:20271031T010000
END:STANDARD
END:VTIMEZONE
BEGIN:VEVENT
DTSTART;TZID=Europe/Berlin:20260418T123000
DTEND;TZID=Europe/Berlin:20260418T170000
DTSTAMP:20260424T194157
CREATED:20260314T174455Z
LAST-MODIFIED:20260314T174739Z
UID:5116-1776515400-1776531600@www.bodensee-feuerwehrbund.com
SUMMARY:Fachvorträge 2026 in Rankweil
DESCRIPTION:EINLADUNG ZU DEN FACHVORTRÄGEN Feuerwehrhaus in Rankweil am \n\n\n\n\nApril 2026\, 12:30 – 17:00 Uhr\n\n\n\n\nVier Einsatzlagen – vier Fachvorträge – gemeinsame Verantwortung Aus realen Einsätzen lernen – vier Fachvorträge für die Feuerwehrpraxis \n\n\n\nGroßschadenslagen\, Naturkatastrophen und komplexe Einsatzereignisse stellen Feuerwehren und Hilfsorganisationen zunehmend vor neue fachliche\, organisatorische und personelle Herausforderungen. \n\n\n\nDer Fachvortragsnachmittag der Feuerwehr Rankweil widmet sich vier gleichwertigen realen Einsatzereignissen\, aus denen wertvolle Erkenntnisse für Ausbildung\, Einsatzführung und Organisation gewonnen werden können. \n\n\n\nWeitere Infos: \n\n\n\n20260311 Fachvortrage Vier versc h Einsatzlagen_2026Herunterladen\n\n\n\n20260311 Anfahrt FachvorträgeHerunterladen
URL:http://www.bodensee-feuerwehrbund.com/event/fachvortraege-2026-in-rankweil/
END:VEVENT
BEGIN:VEVENT
DTSTART;TZID=Europe/Berlin:20260418T150000
DTEND;TZID=Europe/Berlin:20260418T180000
DTSTAMP:20260424T194157
CREATED:20260321T124448Z
LAST-MODIFIED:20260321T124703Z
UID:5157-1776524400-1776535200@www.bodensee-feuerwehrbund.com
SUMMARY:Feuerwehr Depot Schaan -SAVE THE DATE!
DESCRIPTION:SAVE THE DATE! \n\n\n\nWir öffnen unsere Tore schaut vorbei und erlebt die Feuerwehr Schaan Liechtenstein hautnah!
URL:http://www.bodensee-feuerwehrbund.com/event/feuerwehr-depot-schaan-save-the-date/
END:VEVENT
END:VCALENDAR