BEGIN:VCALENDAR
VERSION:2.0
PRODID:-//Internationaler Bodensee-Feuerwehrbund - ECPv6.15.20//NONSGML v1.0//EN
CALSCALE:GREGORIAN
METHOD:PUBLISH
X-ORIGINAL-URL:http://www.bodensee-feuerwehrbund.com
X-WR-CALDESC:Veranstaltungen für Internationaler Bodensee-Feuerwehrbund
REFRESH-INTERVAL;VALUE=DURATION:PT1H
X-Robots-Tag:noindex
X-PUBLISHED-TTL:PT1H
BEGIN:VTIMEZONE
TZID:Europe/Berlin
BEGIN:DAYLIGHT
TZOFFSETFROM:+0100
TZOFFSETTO:+0200
TZNAME:CEST
DTSTART:20240331T010000
END:DAYLIGHT
BEGIN:STANDARD
TZOFFSETFROM:+0200
TZOFFSETTO:+0100
TZNAME:CET
DTSTART:20241027T010000
END:STANDARD
BEGIN:DAYLIGHT
TZOFFSETFROM:+0100
TZOFFSETTO:+0200
TZNAME:CEST
DTSTART:20250330T010000
END:DAYLIGHT
BEGIN:STANDARD
TZOFFSETFROM:+0200
TZOFFSETTO:+0100
TZNAME:CET
DTSTART:20251026T010000
END:STANDARD
BEGIN:DAYLIGHT
TZOFFSETFROM:+0100
TZOFFSETTO:+0200
TZNAME:CEST
DTSTART:20260329T010000
END:DAYLIGHT
BEGIN:STANDARD
TZOFFSETFROM:+0200
TZOFFSETTO:+0100
TZNAME:CET
DTSTART:20261025T010000
END:STANDARD
END:VTIMEZONE
BEGIN:VEVENT
DTSTART;TZID=Europe/Berlin:20250525T000000
DTEND;TZID=Europe/Berlin:20250525T235959
DTSTAMP:20260425T133050
CREATED:20240801T081008Z
LAST-MODIFIED:20241001T073425Z
UID:4091-1748131200-1748217599@www.bodensee-feuerwehrbund.com
SUMMARY:Feuerwehr Dornbirn Fahrzeugweihe Gerätehaus Süd
DESCRIPTION:Am 25. Mai 2025 steht eine weitere Fahrzeugweihe auf dem Plan. Der langgediente Tank 2\, welcher im Gerätehaus Süd (Hatler Feuerwehrhaus) stationiert ist\, darf in Ruhestand gehen und seine Aufgabe an einen neuen Tankwagen übergeben. \n\n\n\nNähere Informationen folgen in den kommenden Monaten!
URL:http://www.bodensee-feuerwehrbund.com/event/feuerwehr-dornbirn-fahrzeugweihe-geraetehaus-sued/
LOCATION:Feuerwehr Dornbirn Wache Hatlerdorf\, Österreich
END:VEVENT
END:VCALENDAR