BEGIN:VCALENDAR
VERSION:2.0
PRODID:-//Internationaler Bodensee-Feuerwehrbund - ECPv6.15.20//NONSGML v1.0//EN
CALSCALE:GREGORIAN
METHOD:PUBLISH
X-WR-CALNAME:Internationaler Bodensee-Feuerwehrbund
X-ORIGINAL-URL:http://www.bodensee-feuerwehrbund.com
X-WR-CALDESC:Veranstaltungen für Internationaler Bodensee-Feuerwehrbund
REFRESH-INTERVAL;VALUE=DURATION:PT1H
X-Robots-Tag:noindex
X-PUBLISHED-TTL:PT1H
BEGIN:VTIMEZONE
TZID:Europe/Berlin
BEGIN:DAYLIGHT
TZOFFSETFROM:+0100
TZOFFSETTO:+0200
TZNAME:CEST
DTSTART:20240331T010000
END:DAYLIGHT
BEGIN:STANDARD
TZOFFSETFROM:+0200
TZOFFSETTO:+0100
TZNAME:CET
DTSTART:20241027T010000
END:STANDARD
BEGIN:DAYLIGHT
TZOFFSETFROM:+0100
TZOFFSETTO:+0200
TZNAME:CEST
DTSTART:20250330T010000
END:DAYLIGHT
BEGIN:STANDARD
TZOFFSETFROM:+0200
TZOFFSETTO:+0100
TZNAME:CET
DTSTART:20251026T010000
END:STANDARD
BEGIN:DAYLIGHT
TZOFFSETFROM:+0100
TZOFFSETTO:+0200
TZNAME:CEST
DTSTART:20260329T010000
END:DAYLIGHT
BEGIN:STANDARD
TZOFFSETFROM:+0200
TZOFFSETTO:+0100
TZNAME:CET
DTSTART:20261025T010000
END:STANDARD
END:VTIMEZONE
BEGIN:VEVENT
DTSTART;TZID=Europe/Berlin:20250426T100000
DTEND;TZID=Europe/Berlin:20250426T160000
DTSTAMP:20260425T150636
CREATED:20250226T082459Z
LAST-MODIFIED:20250226T083015Z
UID:4454-1745661600-1745683200@www.bodensee-feuerwehrbund.com
SUMMARY:Feuerwehr und Zivilschutz St. Gallen --> Tag der offenen Tore
DESCRIPTION:Tag der offenen Tore bei der Feuerwehr und Zivilschutz St.Gallen.  \n\n\n\nProgramm: – Rundgang durch das Betriebsgebäude– Einsatzübung (Zeiten vor Ort ersichtlich)– Wettbewerb mit tollen Preisen– Festwirtschaft
URL:http://www.bodensee-feuerwehrbund.com/event/feuerwehr-und-zivilschutz-st-gallen-tag-der-offenen-tore/
LOCATION:Feuerwehr und Zivilschutz St.Gallen\, Notkerstrasse 44\, 9001 St.Gallen\, Switzerland
ORGANIZER;CN="Feuerwehr und Zivilschutz St.Gallen":MAILTO:alarmzentrale@stadt.sg.ch
END:VEVENT
END:VCALENDAR