BEGIN:VCALENDAR
VERSION:2.0
PRODID:-//Internationaler Bodensee-Feuerwehrbund - ECPv6.15.20//NONSGML v1.0//EN
CALSCALE:GREGORIAN
METHOD:PUBLISH
X-WR-CALNAME:Internationaler Bodensee-Feuerwehrbund
X-ORIGINAL-URL:http://www.bodensee-feuerwehrbund.com
X-WR-CALDESC:Veranstaltungen für Internationaler Bodensee-Feuerwehrbund
REFRESH-INTERVAL;VALUE=DURATION:PT1H
X-Robots-Tag:noindex
X-PUBLISHED-TTL:PT1H
BEGIN:VTIMEZONE
TZID:Europe/Berlin
BEGIN:DAYLIGHT
TZOFFSETFROM:+0100
TZOFFSETTO:+0200
TZNAME:CEST
DTSTART:20240331T010000
END:DAYLIGHT
BEGIN:STANDARD
TZOFFSETFROM:+0200
TZOFFSETTO:+0100
TZNAME:CET
DTSTART:20241027T010000
END:STANDARD
BEGIN:DAYLIGHT
TZOFFSETFROM:+0100
TZOFFSETTO:+0200
TZNAME:CEST
DTSTART:20250330T010000
END:DAYLIGHT
BEGIN:STANDARD
TZOFFSETFROM:+0200
TZOFFSETTO:+0100
TZNAME:CET
DTSTART:20251026T010000
END:STANDARD
BEGIN:DAYLIGHT
TZOFFSETFROM:+0100
TZOFFSETTO:+0200
TZNAME:CEST
DTSTART:20260329T010000
END:DAYLIGHT
BEGIN:STANDARD
TZOFFSETFROM:+0200
TZOFFSETTO:+0100
TZNAME:CET
DTSTART:20261025T010000
END:STANDARD
END:VTIMEZONE
BEGIN:VEVENT
DTSTART;TZID=Europe/Berlin:20250412T100000
DTEND;TZID=Europe/Berlin:20250412T170000
DTSTAMP:20260425T150638
CREATED:20250410T174046Z
LAST-MODIFIED:20250410T174123Z
UID:4535-1744452000-1744477200@www.bodensee-feuerwehrbund.com
SUMMARY:Vorarlberg Feuerwehrjugend Wissenstest 2025
DESCRIPTION:Vorarlberg Feuerwehrjugend Wissenstest 2025! \n\n\n\nWissenstest\, Samstag vor der Karwoche\, am 12. April 2025 in nachfolgend angeführten Ortschaften. Siehe Link vom Landesfeuerwehrverband Vorarlberg.
URL:http://www.bodensee-feuerwehrbund.com/event/vorarlberg-feuerwehrjugend-wissenstest-2025/
LOCATION:https://www.lfv-vorarlberg.at/jugend_/537692-wissenstest-2025.html
ORGANIZER;CN="Landesfeuerwehrverband Vorarlberg":MAILTO:office@lfv-vorarlberg.at
END:VEVENT
END:VCALENDAR