BEGIN:VCALENDAR
VERSION:2.0
PRODID:-//Internationaler Bodensee-Feuerwehrbund - ECPv6.15.20//NONSGML v1.0//EN
CALSCALE:GREGORIAN
METHOD:PUBLISH
X-WR-CALNAME:Internationaler Bodensee-Feuerwehrbund
X-ORIGINAL-URL:http://www.bodensee-feuerwehrbund.com
X-WR-CALDESC:Veranstaltungen für Internationaler Bodensee-Feuerwehrbund
REFRESH-INTERVAL;VALUE=DURATION:PT1H
X-Robots-Tag:noindex
X-PUBLISHED-TTL:PT1H
BEGIN:VTIMEZONE
TZID:Europe/Berlin
BEGIN:DAYLIGHT
TZOFFSETFROM:+0100
TZOFFSETTO:+0200
TZNAME:CEST
DTSTART:20240331T010000
END:DAYLIGHT
BEGIN:STANDARD
TZOFFSETFROM:+0200
TZOFFSETTO:+0100
TZNAME:CET
DTSTART:20241027T010000
END:STANDARD
BEGIN:DAYLIGHT
TZOFFSETFROM:+0100
TZOFFSETTO:+0200
TZNAME:CEST
DTSTART:20250330T010000
END:DAYLIGHT
BEGIN:STANDARD
TZOFFSETFROM:+0200
TZOFFSETTO:+0100
TZNAME:CET
DTSTART:20251026T010000
END:STANDARD
BEGIN:DAYLIGHT
TZOFFSETFROM:+0100
TZOFFSETTO:+0200
TZNAME:CEST
DTSTART:20260329T010000
END:DAYLIGHT
BEGIN:STANDARD
TZOFFSETFROM:+0200
TZOFFSETTO:+0100
TZNAME:CET
DTSTART:20261025T010000
END:STANDARD
END:VTIMEZONE
BEGIN:VEVENT
DTSTART;TZID=Europe/Berlin:20250409T193000
DTEND;TZID=Europe/Berlin:20250409T223000
DTSTAMP:20260425T150744
CREATED:20250328T170511Z
LAST-MODIFIED:20250328T170511Z
UID:4493-1744227000-1744237800@www.bodensee-feuerwehrbund.com
SUMMARY:BFB Vorstandssitzung (Vorstand)
DESCRIPTION:BFB Vorstandssitzung (Vorstand) findet bei der Feuerwehr in Bregenz-Stadt\, statt.
URL:http://www.bodensee-feuerwehrbund.com/event/bfb-vorstandssitzung-vorstand/
END:VEVENT
END:VCALENDAR